BEGIN:VCALENDAR
VERSION:2.0
PRODID:-//CPR Bob LLC - ECPv6.15.20//NONSGML v1.0//EN
CALSCALE:GREGORIAN
METHOD:PUBLISH
X-ORIGINAL-URL:https://cprbob.com
X-WR-CALDESC:Events for CPR Bob LLC
REFRESH-INTERVAL;VALUE=DURATION:PT1H
X-Robots-Tag:noindex
X-PUBLISHED-TTL:PT1H
BEGIN:VTIMEZONE
TZID:Atlantic/South_Georgia
BEGIN:STANDARD
TZOFFSETFROM:-0200
TZOFFSETTO:-0200
TZNAME:-02
DTSTART:20250101T000000
END:STANDARD
END:VTIMEZONE
BEGIN:VEVENT
DTSTART;TZID=Atlantic/South_Georgia:20260122T080000
DTEND;TZID=Atlantic/South_Georgia:20260122T170000
DTSTAMP:20260421T080941
CREATED:20251209T172927Z
LAST-MODIFIED:20251209T185341Z
UID:10000003-1769068800-1769101200@cprbob.com
SUMMARY:BLS & PALS\, CHOA Ortho
DESCRIPTION:
URL:https://cprbob.com/event/bls-pals-choa-ortho/
LOCATION:BLS & PALS\, CHOA Ortho\, Atlanta\, GA\, United States
ATTACH;FMTTYPE=image/jpeg:https://cprbob.com/wp-content/uploads/2025/12/Auburn_2026_John_S_1-scaled.jpg
END:VEVENT
END:VCALENDAR